BEGIN:VCALENDAR
VERSION:2.0
PRODID:-//Global Healthcare Professionals UK Limited - ECPv6.11.2//NONSGML v1.0//EN
CALSCALE:GREGORIAN
METHOD:PUBLISH
X-WR-CALNAME:Global Healthcare Professionals UK Limited
X-ORIGINAL-URL:https://www.globalhealthcareprofessionals.co.uk
X-WR-CALDESC:Events for Global Healthcare Professionals UK Limited
REFRESH-INTERVAL;VALUE=DURATION:PT1H
X-Robots-Tag:noindex
X-PUBLISHED-TTL:PT1H
BEGIN:VTIMEZONE
TZID:UTC
BEGIN:STANDARD
TZOFFSETFROM:+0000
TZOFFSETTO:+0000
TZNAME:UTC
DTSTART:20250101T000000
END:STANDARD
END:VTIMEZONE
BEGIN:VEVENT
DTSTART;VALUE=DATE:20260408
DTEND;VALUE=DATE:20260409
DTSTAMP:20260420T013219
CREATED:20250427T144204Z
LAST-MODIFIED:20260409T051207Z
UID:20476-1775606400-1775692799@www.globalhealthcareprofessionals.co.uk
SUMMARY:Mandatory and Statutory Training
DESCRIPTION:To secure your spot for this training\, we kindly request that you complete the Candidate Booking Form. A company representative will reach out to confirm your registration and provide any additional information you may need. Please ensure your contact details are accurate and keep your phone line open\, as well as regularly check your email for updates.
URL:https://www.globalhealthcareprofessionals.co.uk/training-calendar/mandatory-and-statutory-training-8th-apr-2026/
LOCATION:Crown House Business Centre\, Suite 721 \, 7th Floor North Circular Road\, London\, NW10 7PN\, United Kingdom
ORGANIZER;CN="Global Healthcare Professionals UK Limited":MAILTO:info@globalhealthcareprofessionals.co.uk
END:VEVENT
BEGIN:VEVENT
DTSTART;VALUE=DATE:20260407
DTEND;VALUE=DATE:20260408
DTSTAMP:20260420T013219
CREATED:20250903T025840Z
LAST-MODIFIED:20260409T134337Z
UID:21246-1775520000-1775606399@www.globalhealthcareprofessionals.co.uk
SUMMARY:Gastrostomy Tube Care and Management (Adult and Paediatric)
DESCRIPTION:To secure your spot for this training\, we kindly request that you complete the Candidate Booking Form. A company representative will reach out to confirm your registration and provide any additional information you may need. Please ensure your contact details are accurate and keep your phone line open\, as well as regularly check your email for updates.
URL:https://www.globalhealthcareprofessionals.co.uk/training-calendar/gastrostomy-tube-care-and-management-7th-apr-2026/
LOCATION:Crown House Business Centre\, Suite 721 \, 7th Floor North Circular Road\, London\, NW10 7PN\, United Kingdom
ORGANIZER;CN="Global Healthcare Professionals UK Limited":MAILTO:info@globalhealthcareprofessionals.co.uk
END:VEVENT
BEGIN:VEVENT
DTSTART;VALUE=DATE:20260406
DTEND;VALUE=DATE:20260407
DTSTAMP:20260420T013219
CREATED:20250427T144753Z
LAST-MODIFIED:20260409T133829Z
UID:20508-1775433600-1775519999@www.globalhealthcareprofessionals.co.uk
SUMMARY:Adult Tracheostomy
DESCRIPTION:To secure your spot for this training\, we kindly request that you complete the Candidate Booking Form. A company representative will reach out to confirm your registration and provide any additional information you may need. Please ensure your contact details are accurate and keep your phone line open\, as well as regularly check your email for updates.
URL:https://www.globalhealthcareprofessionals.co.uk/training-calendar/adult-tracheostomy-6th-apr-2026/
LOCATION:Crown House Business Centre\, Suite 721 \, 7th Floor North Circular Road\, London\, NW10 7PN\, United Kingdom
ORGANIZER;CN="Global Healthcare Professionals UK Limited":MAILTO:info@globalhealthcareprofessionals.co.uk
END:VEVENT
BEGIN:VEVENT
DTSTART;VALUE=DATE:20260406
DTEND;VALUE=DATE:20260407
DTSTAMP:20260420T013219
CREATED:20250427T144151Z
LAST-MODIFIED:20260409T051206Z
UID:20475-1775433600-1775519999@www.globalhealthcareprofessionals.co.uk
SUMMARY:Mandatory and Statutory Training
DESCRIPTION:To secure your spot for this training\, we kindly request that you complete the Candidate Booking Form. A company representative will reach out to confirm your registration and provide any additional information you may need. Please ensure your contact details are accurate and keep your phone line open\, as well as regularly check your email for updates.
URL:https://www.globalhealthcareprofessionals.co.uk/training-calendar/mandatory-and-statutory-training-6th-apr-2026/
LOCATION:Crown House Business Centre\, Suite 721 \, 7th Floor North Circular Road\, London\, NW10 7PN\, United Kingdom
ORGANIZER;CN="Global Healthcare Professionals UK Limited":MAILTO:info@globalhealthcareprofessionals.co.uk
END:VEVENT
BEGIN:VEVENT
DTSTART;VALUE=DATE:20260404
DTEND;VALUE=DATE:20260405
DTSTAMP:20260420T013219
CREATED:20250903T031136Z
LAST-MODIFIED:20260409T053510Z
UID:21314-1775260800-1775347199@www.globalhealthcareprofessionals.co.uk
SUMMARY:Medication Safety Practice
DESCRIPTION:To secure your spot for this training\, we kindly request that you complete the Candidate Booking Form. A company representative will reach out to confirm your registration and provide any additional information you may need. Please ensure your contact details are accurate and keep your phone line open\, as well as regularly check your email for updates.
URL:https://www.globalhealthcareprofessionals.co.uk/training-calendar/medication-safety-practice-4th-apr-2026/
LOCATION:Crown House Business Centre\, Suite 721 \, 7th Floor North Circular Road\, London\, NW10 7PN\, United Kingdom
ORGANIZER;CN="Global Healthcare Professionals UK Limited":MAILTO:info@globalhealthcareprofessionals.co.uk
END:VEVENT
BEGIN:VEVENT
DTSTART;VALUE=DATE:20260404
DTEND;VALUE=DATE:20260405
DTSTAMP:20260420T013219
CREATED:20250427T144128Z
LAST-MODIFIED:20260409T051138Z
UID:20474-1775260800-1775347199@www.globalhealthcareprofessionals.co.uk
SUMMARY:Mandatory and Statutory Training
DESCRIPTION:﻿To secure your spot for this training\, we kindly request that you complete the Candidate Booking Form. A company representative will reach out to confirm your registration and provide any additional information you may need. Please ensure your contact details are accurate and keep your phone line open\, as well as regularly check your email for updates.
URL:https://www.globalhealthcareprofessionals.co.uk/training-calendar/mandatory-and-statutory-training-4th-apr-2026/
LOCATION:Crown House Business Centre\, Suite 721 \, 7th Floor North Circular Road\, London\, NW10 7PN\, United Kingdom
ORGANIZER;CN="Global Healthcare Professionals UK Limited":MAILTO:info@globalhealthcareprofessionals.co.uk
END:VEVENT
BEGIN:VEVENT
DTSTART;VALUE=DATE:20260403
DTEND;VALUE=DATE:20260404
DTSTAMP:20260420T013219
CREATED:20250903T030832Z
LAST-MODIFIED:20260409T052943Z
UID:21294-1775174400-1775260799@www.globalhealthcareprofessionals.co.uk
SUMMARY:Epilepsy Awareness and Buccal Midazolam Administration
DESCRIPTION:To secure your spot for this training\, we kindly request that you complete the Candidate Booking Form. A company representative will reach out to confirm your registration and provide any additional information you may need. Please ensure your contact details are accurate and keep your phone line open\, as well as regularly check your email for updates.
URL:https://www.globalhealthcareprofessionals.co.uk/training-calendar/epilepsy-awareness-and-buccal-midazolam-administration-3rd-apr-2026/
LOCATION:Crown House Business Centre\, Suite 721 \, 7th Floor North Circular Road\, London\, NW10 7PN\, United Kingdom
ORGANIZER;CN="Global Healthcare Professionals UK Limited":MAILTO:info@globalhealthcareprofessionals.co.uk
END:VEVENT
BEGIN:VEVENT
DTSTART;VALUE=DATE:20260403
DTEND;VALUE=DATE:20260404
DTSTAMP:20260420T013219
CREATED:20250427T144110Z
LAST-MODIFIED:20260409T051130Z
UID:20473-1775174400-1775260799@www.globalhealthcareprofessionals.co.uk
SUMMARY:Mandatory and Statutory Training
DESCRIPTION:﻿To secure your spot for this training\, we kindly request that you complete the Candidate Booking Form. A company representative will reach out to confirm your registration and provide any additional information you may need. Please ensure your contact details are accurate and keep your phone line open\, as well as regularly check your email for updates.
URL:https://www.globalhealthcareprofessionals.co.uk/training-calendar/mandatory-and-statutory-training-3rd-apr-2026/
LOCATION:Crown House Business Centre\, Suite 721 \, 7th Floor North Circular Road\, London\, NW10 7PN\, United Kingdom
ORGANIZER;CN="Global Healthcare Professionals UK Limited":MAILTO:info@globalhealthcareprofessionals.co.uk
END:VEVENT
BEGIN:VEVENT
DTSTART;VALUE=DATE:20260402
DTEND;VALUE=DATE:20260403
DTSTAMP:20260420T013219
CREATED:20250427T044624Z
LAST-MODIFIED:20260409T054129Z
UID:20393-1775088000-1775174399@www.globalhealthcareprofessionals.co.uk
SUMMARY:Urethral Catheterisation
DESCRIPTION:To secure your spot for this training\, we kindly request that you complete the Candidate Booking Form. A company representative will reach out to confirm your registration and provide any additional information you may need. Please ensure your contact details are accurate and keep your phone line open\, as well as regularly check your email for updates.
URL:https://www.globalhealthcareprofessionals.co.uk/training-calendar/urethral-catheterisation-2nd-apr-2026/
LOCATION:Crown House Business Centre\, Suite 721 \, 7th Floor North Circular Road\, London\, NW10 7PN\, United Kingdom
ORGANIZER;CN="Global Healthcare Professionals UK Limited":MAILTO:info@globalhealthcareprofessionals.co.uk
END:VEVENT
BEGIN:VEVENT
DTSTART;VALUE=DATE:20260401
DTEND;VALUE=DATE:20260402
DTSTAMP:20260420T013219
CREATED:20250427T144059Z
LAST-MODIFIED:20260409T051108Z
UID:20472-1775001600-1775087999@www.globalhealthcareprofessionals.co.uk
SUMMARY:Mandatory and Statutory Training
DESCRIPTION:To secure your spot for this training\, we kindly request that you complete the Candidate Booking Form. A company representative will reach out to confirm your registration and provide any additional information you may need. Please ensure your contact details are accurate and keep your phone line open\, as well as regularly check your email for updates.
URL:https://www.globalhealthcareprofessionals.co.uk/training-calendar/mandatory-and-statutory-training-1st-apr-2026/
LOCATION:Crown House Business Centre\, Suite 721 \, 7th Floor North Circular Road\, London\, NW10 7PN\, United Kingdom
ORGANIZER;CN="Global Healthcare Professionals UK Limited":MAILTO:info@globalhealthcareprofessionals.co.uk
END:VEVENT
BEGIN:VEVENT
DTSTART;VALUE=DATE:20260401
DTEND;VALUE=DATE:20260402
DTSTAMP:20260420T013219
CREATED:20260409T055213Z
LAST-MODIFIED:20260409T055239Z
UID:21685-1775001600-1775087999@www.globalhealthcareprofessionals.co.uk
SUMMARY:IV Therapy
DESCRIPTION:To secure your spot for this training\, we kindly request that you complete the Candidate Booking Form. A company representative will reach out to confirm your registration and provide any additional information you may need. Please ensure your contact details are accurate and keep your phone line open\, as well as regularly check your email for updates.
URL:https://www.globalhealthcareprofessionals.co.uk/training-calendar/iv-therapy-1st-apr-2026/
LOCATION:Crown House Business Centre\, Suite 721 \, 7th Floor North Circular Road\, London\, NW10 7PN\, United Kingdom
ORGANIZER;CN="Global Healthcare Professionals UK Limited":MAILTO:info@globalhealthcareprofessionals.co.uk
END:VEVENT
BEGIN:VEVENT
DTSTART;VALUE=DATE:20251231
DTEND;VALUE=DATE:20260101
DTSTAMP:20260420T013219
CREATED:20250427T150700Z
LAST-MODIFIED:20251210T002421Z
UID:20570-1767139200-1767225599@www.globalhealthcareprofessionals.co.uk
SUMMARY:Venepuncture (Phlebotomy) and Cannulation (Adult and Paediatric)
DESCRIPTION:To secure your spot for this training\, we kindly request that you complete the Candidate Booking Form. A company representative will reach out to confirm your registration and provide any additional information you may need. Please ensure your contact details are accurate and keep your phone line open\, as well as regularly check your email for updates.
URL:https://www.globalhealthcareprofessionals.co.uk/training-calendar/venepuncture-phlebotomy-and-cannulation-adult-and-paediatric-31st-dec-2025/
LOCATION:Crown House Business Centre\, Suite 721 \, 7th Floor North Circular Road\, London\, NW10 7PN\, United Kingdom
ORGANIZER;CN="Global Healthcare Professionals UK Limited":MAILTO:info@globalhealthcareprofessionals.co.uk
END:VEVENT
BEGIN:VEVENT
DTSTART;VALUE=DATE:20251201
DTEND;VALUE=DATE:20251202
DTSTAMP:20260420T013219
CREATED:20250427T145018Z
LAST-MODIFIED:20251210T000258Z
UID:20518-1764547200-1764633599@www.globalhealthcareprofessionals.co.uk
SUMMARY:Paediatric Tracheostomy
DESCRIPTION:To secure your spot for this training\, we kindly request that you complete the Candidate Booking Form. A company representative will reach out to confirm your registration and provide any additional information you may need. Please ensure your contact details are accurate and keep your phone line open\, as well as regularly check your email for updates.
URL:https://www.globalhealthcareprofessionals.co.uk/training-calendar/paediatric-tracheostomy-1st-dec-2025/
LOCATION:Crown House Business Centre\, Suite 721 \, 7th Floor North Circular Road\, London\, NW10 7PN\, United Kingdom
ORGANIZER;CN="Global Healthcare Professionals UK Limited":MAILTO:info@globalhealthcareprofessionals.co.uk
END:VEVENT
BEGIN:VEVENT
DTSTART;VALUE=DATE:20250627
DTEND;VALUE=DATE:20250628
DTSTAMP:20260420T013219
CREATED:20250427T150940Z
LAST-MODIFIED:20250427T150940Z
UID:20581-1750982400-1751068799@www.globalhealthcareprofessionals.co.uk
SUMMARY:ECG Interpretation (12-Lead Placement)
DESCRIPTION:To secure your spot for this training\, we kindly request that you complete the Candidate Booking Form. A company representative will reach out to confirm your registration and provide any additional information you may need. Please ensure your contact details are accurate and keep your phone line open\, as well as regularly check your email for updates.
URL:https://www.globalhealthcareprofessionals.co.uk/training-calendar/ecg-interpretation-12-lead-placement-27th-jun-2025/
LOCATION:Crown House Business Centre\, Suite 721 \, 7th Floor North Circular Road\, London\, NW10 7PN\, United Kingdom
ORGANIZER;CN="Global Healthcare Professionals UK Limited":MAILTO:info@globalhealthcareprofessionals.co.uk
END:VEVENT
BEGIN:VEVENT
DTSTART;VALUE=DATE:20250613
DTEND;VALUE=DATE:20250614
DTSTAMP:20260420T013219
CREATED:20250427T150928Z
LAST-MODIFIED:20250427T150928Z
UID:20580-1749772800-1749859199@www.globalhealthcareprofessionals.co.uk
SUMMARY:ECG Interpretation (12-Lead Placement)
DESCRIPTION:To secure your spot for this training\, we kindly request that you complete the Candidate Booking Form. A company representative will reach out to confirm your registration and provide any additional information you may need. Please ensure your contact details are accurate and keep your phone line open\, as well as regularly check your email for updates.
URL:https://www.globalhealthcareprofessionals.co.uk/training-calendar/ecg-interpretation-12-lead-placement-13th-jun-2025/
LOCATION:Crown House Business Centre\, Suite 721 \, 7th Floor North Circular Road\, London\, NW10 7PN\, United Kingdom
ORGANIZER;CN="Global Healthcare Professionals UK Limited":MAILTO:info@globalhealthcareprofessionals.co.uk
END:VEVENT
BEGIN:VEVENT
DTSTART;VALUE=DATE:20250530
DTEND;VALUE=DATE:20250531
DTSTAMP:20260420T013219
CREATED:20250427T150913Z
LAST-MODIFIED:20250427T150913Z
UID:20579-1748563200-1748649599@www.globalhealthcareprofessionals.co.uk
SUMMARY:ECG Interpretation (12-Lead Placement)
DESCRIPTION:To secure your spot for this training\, we kindly request that you complete the Candidate Booking Form. A company representative will reach out to confirm your registration and provide any additional information you may need. Please ensure your contact details are accurate and keep your phone line open\, as well as regularly check your email for updates.
URL:https://www.globalhealthcareprofessionals.co.uk/training-calendar/ecg-interpretation-12-lead-placement-30th-may-2025/
LOCATION:Crown House Business Centre\, Suite 721 \, 7th Floor North Circular Road\, London\, NW10 7PN\, United Kingdom
ORGANIZER;CN="Global Healthcare Professionals UK Limited":MAILTO:info@globalhealthcareprofessionals.co.uk
END:VEVENT
BEGIN:VEVENT
DTSTART;VALUE=DATE:20250516
DTEND;VALUE=DATE:20250517
DTSTAMP:20260420T013219
CREATED:20250427T150857Z
LAST-MODIFIED:20250427T150857Z
UID:20578-1747353600-1747439999@www.globalhealthcareprofessionals.co.uk
SUMMARY:ECG Interpretation (12-Lead Placement)
DESCRIPTION:To secure your spot for this training\, we kindly request that you complete the Candidate Booking Form. A company representative will reach out to confirm your registration and provide any additional information you may need. Please ensure your contact details are accurate and keep your phone line open\, as well as regularly check your email for updates.
URL:https://www.globalhealthcareprofessionals.co.uk/training-calendar/ecg-interpretation-12-lead-placement-16th-may-2025/
LOCATION:Crown House Business Centre\, Suite 721 \, 7th Floor North Circular Road\, London\, NW10 7PN\, United Kingdom
ORGANIZER;CN="Global Healthcare Professionals UK Limited":MAILTO:info@globalhealthcareprofessionals.co.uk
END:VEVENT
BEGIN:VEVENT
DTSTART;VALUE=DATE:20250502
DTEND;VALUE=DATE:20250503
DTSTAMP:20260420T013219
CREATED:20250427T150812Z
LAST-MODIFIED:20250427T150822Z
UID:20576-1746144000-1746230399@www.globalhealthcareprofessionals.co.uk
SUMMARY:ECG Interpretation (12-Lead Placement)
DESCRIPTION:To secure your spot for this training\, we kindly request that you complete the Candidate Booking Form. A company representative will reach out to confirm your registration and provide any additional information you may need. Please ensure your contact details are accurate and keep your phone line open\, as well as regularly check your email for updates.
URL:https://www.globalhealthcareprofessionals.co.uk/training-calendar/ecg-interpretation-12-lead-placement-2nd-may-2025/
LOCATION:Crown House Business Centre\, Suite 721 \, 7th Floor North Circular Road\, London\, NW10 7PN\, United Kingdom
ORGANIZER;CN="Global Healthcare Professionals UK Limited":MAILTO:info@globalhealthcareprofessionals.co.uk
END:VEVENT
END:VCALENDAR