BEGIN:VCALENDAR
VERSION:2.0
PRODID:-//Global Healthcare Professionals UK Limited - ECPv6.11.2//NONSGML v1.0//EN
CALSCALE:GREGORIAN
METHOD:PUBLISH
X-WR-CALNAME:Global Healthcare Professionals UK Limited
X-ORIGINAL-URL:https://www.globalhealthcareprofessionals.co.uk
X-WR-CALDESC:Events for Global Healthcare Professionals UK Limited
REFRESH-INTERVAL;VALUE=DURATION:PT1H
X-Robots-Tag:noindex
X-PUBLISHED-TTL:PT1H
BEGIN:VTIMEZONE
TZID:UTC
BEGIN:STANDARD
TZOFFSETFROM:+0000
TZOFFSETTO:+0000
TZNAME:UTC
DTSTART:20250101T000000
END:STANDARD
END:VTIMEZONE
BEGIN:VEVENT
DTSTART;VALUE=DATE:20250502
DTEND;VALUE=DATE:20250503
DTSTAMP:20260420T014431
CREATED:20250427T150812Z
LAST-MODIFIED:20250427T150822Z
UID:20576-1746144000-1746230399@www.globalhealthcareprofessionals.co.uk
SUMMARY:ECG Interpretation (12-Lead Placement)
DESCRIPTION:To secure your spot for this training\, we kindly request that you complete the Candidate Booking Form. A company representative will reach out to confirm your registration and provide any additional information you may need. Please ensure your contact details are accurate and keep your phone line open\, as well as regularly check your email for updates.
URL:https://www.globalhealthcareprofessionals.co.uk/training-calendar/ecg-interpretation-12-lead-placement-2nd-may-2025/
LOCATION:Crown House Business Centre\, Suite 721 \, 7th Floor North Circular Road\, London\, NW10 7PN\, United Kingdom
ORGANIZER;CN="Global Healthcare Professionals UK Limited":MAILTO:info@globalhealthcareprofessionals.co.uk
END:VEVENT
END:VCALENDAR