BEGIN:VCALENDAR
VERSION:2.0
PRODID:-//Global Healthcare Professionals UK Limited - ECPv6.11.2//NONSGML v1.0//EN
CALSCALE:GREGORIAN
METHOD:PUBLISH
X-WR-CALNAME:Global Healthcare Professionals UK Limited
X-ORIGINAL-URL:https://www.globalhealthcareprofessionals.co.uk
X-WR-CALDESC:Events for Global Healthcare Professionals UK Limited
REFRESH-INTERVAL;VALUE=DURATION:PT1H
X-Robots-Tag:noindex
X-PUBLISHED-TTL:PT1H
BEGIN:VTIMEZONE
TZID:UTC
BEGIN:STANDARD
TZOFFSETFROM:+0000
TZOFFSETTO:+0000
TZNAME:UTC
DTSTART:20260101T000000
END:STANDARD
END:VTIMEZONE
BEGIN:VEVENT
DTSTART;VALUE=DATE:20260424
DTEND;VALUE=DATE:20260425
DTSTAMP:20260419T162640
CREATED:20250427T144353Z
LAST-MODIFIED:20260409T051333Z
UID:20496-1776988800-1777075199@www.globalhealthcareprofessionals.co.uk
SUMMARY:Mandatory and Statutory Training
DESCRIPTION:To secure your spot for this training\, we kindly request that you complete the Candidate Booking Form. A company representative will reach out to confirm your registration and provide any additional information you may need. Please ensure your contact details are accurate and keep your phone line open\, as well as regularly check your email for updates.
URL:https://www.globalhealthcareprofessionals.co.uk/training-calendar/mandatory-and-statutory-training-24th-apr-2026/
LOCATION:Crown House Business Centre\, Suite 721 \, 7th Floor North Circular Road\, London\, NW10 7PN\, United Kingdom
ORGANIZER;CN="Global Healthcare Professionals UK Limited":MAILTO:info@globalhealthcareprofessionals.co.uk
END:VEVENT
BEGIN:VEVENT
DTSTART;VALUE=DATE:20260424
DTEND;VALUE=DATE:20260425
DTSTAMP:20260419T162640
CREATED:20250903T030849Z
LAST-MODIFIED:20260409T053029Z
UID:21297-1776988800-1777075199@www.globalhealthcareprofessionals.co.uk
SUMMARY:Epilepsy Awareness and Buccal Midazolam Administration
DESCRIPTION:To secure your spot for this training\, we kindly request that you complete the Candidate Booking Form. A company representative will reach out to confirm your registration and provide any additional information you may need. Please ensure your contact details are accurate and keep your phone line open\, as well as regularly check your email for updates.
URL:https://www.globalhealthcareprofessionals.co.uk/training-calendar/epilepsy-awareness-and-buccal-midazolam-administration-24th-apr-2026/
LOCATION:Crown House Business Centre\, Suite 721 \, 7th Floor North Circular Road\, London\, NW10 7PN\, United Kingdom
ORGANIZER;CN="Global Healthcare Professionals UK Limited":MAILTO:info@globalhealthcareprofessionals.co.uk
END:VEVENT
END:VCALENDAR