BEGIN:VCALENDAR
VERSION:2.0
PRODID:-//Global Healthcare Professionals UK Limited - ECPv6.11.2//NONSGML v1.0//EN
CALSCALE:GREGORIAN
METHOD:PUBLISH
X-ORIGINAL-URL:https://www.globalhealthcareprofessionals.co.uk
X-WR-CALDESC:Events for Global Healthcare Professionals UK Limited
REFRESH-INTERVAL;VALUE=DURATION:PT1H
X-Robots-Tag:noindex
X-PUBLISHED-TTL:PT1H
BEGIN:VTIMEZONE
TZID:UTC
BEGIN:STANDARD
TZOFFSETFROM:+0000
TZOFFSETTO:+0000
TZNAME:UTC
DTSTART:20260101T000000
END:STANDARD
END:VTIMEZONE
BEGIN:VEVENT
DTSTART;VALUE=DATE:20260411
DTEND;VALUE=DATE:20260412
DTSTAMP:20260419T163059
CREATED:20250427T144230Z
LAST-MODIFIED:20260409T051217Z
UID:20478-1775865600-1775951999@www.globalhealthcareprofessionals.co.uk
SUMMARY:Mandatory and Statutory Training
DESCRIPTION:﻿To secure your spot for this training\, we kindly request that you complete the Candidate Booking Form. A company representative will reach out to confirm your registration and provide any additional information you may need. Please ensure your contact details are accurate and keep your phone line open\, as well as regularly check your email for updates.
URL:https://www.globalhealthcareprofessionals.co.uk/training-calendar/mandatory-and-statutory-training-11th-apr-2026/
LOCATION:Crown House Business Centre\, Suite 721 \, 7th Floor North Circular Road\, London\, NW10 7PN\, United Kingdom
ORGANIZER;CN="Global Healthcare Professionals UK Limited":MAILTO:info@globalhealthcareprofessionals.co.uk
END:VEVENT
BEGIN:VEVENT
DTSTART;VALUE=DATE:20260411
DTEND;VALUE=DATE:20260412
DTSTAMP:20260419T163059
CREATED:20250427T151258Z
LAST-MODIFIED:20260409T053808Z
UID:20594-1775865600-1775951999@www.globalhealthcareprofessionals.co.uk
SUMMARY:The Law\, Ethics\, Professional Accountability\, Nursing Documentation and Record Keeping
DESCRIPTION:To secure your spot for this training\, we kindly request that you complete the Candidate Booking Form. A company representative will reach out to confirm your registration and provide any additional information you may need. Please ensure your contact details are accurate and keep your phone line open\, as well as regularly check your email for updates.
URL:https://www.globalhealthcareprofessionals.co.uk/training-calendar/the-law-ethics-professional-accountability-nursing-documentation-and-record-keeping-11th-apr-2026/
LOCATION:Crown House Business Centre\, Suite 721 \, 7th Floor North Circular Road\, London\, NW10 7PN\, United Kingdom
ORGANIZER;CN="Global Healthcare Professionals UK Limited":MAILTO:info@globalhealthcareprofessionals.co.uk
END:VEVENT
END:VCALENDAR